BEGIN:VCALENDAR
VERSION:2.0
PRODID:-//Department of Art - ECPv6.1.3//NONSGML v1.0//EN
CALSCALE:GREGORIAN
METHOD:PUBLISH
X-ORIGINAL-URL:https://art.wsu.edu
X-WR-CALDESC:Events for Department of Art
REFRESH-INTERVAL;VALUE=DURATION:PT1H
X-Robots-Tag:noindex
X-PUBLISHED-TTL:PT1H
BEGIN:VTIMEZONE
TZID:America/Vancouver
BEGIN:DAYLIGHT
TZOFFSETFROM:-0800
TZOFFSETTO:-0700
TZNAME:PDT
DTSTART:20180311T100000
END:DAYLIGHT
BEGIN:STANDARD
TZOFFSETFROM:-0700
TZOFFSETTO:-0800
TZNAME:PST
DTSTART:20181104T090000
END:STANDARD
END:VTIMEZONE
BEGIN:VEVENT
DTSTART;TZID=America/Vancouver:20180124T170000
DTEND;TZID=America/Vancouver:20180124T190000
DTSTAMP:20260422T201813
CREATED:20180125T202435Z
LAST-MODIFIED:20180125T202435Z
UID:4498-1516813200-1516820400@art.wsu.edu
SUMMARY:Figure Drawing
DESCRIPTION:Open to all students currently enrolled in Fine Arts courses. \nWednesdays from 5-7pm \nDrawing Studio – Room 7024
URL:https://art.wsu.edu/event/figure-drawing-3/2018-01-24/
CATEGORIES:Fine Arts
END:VEVENT
END:VCALENDAR